BEGIN:VCALENDAR
VERSION:2.0
PRODID:-//Sustainable Medfield - ECPv6.15.18//NONSGML v1.0//EN
CALSCALE:GREGORIAN
METHOD:PUBLISH
X-WR-CALNAME:Sustainable Medfield
X-ORIGINAL-URL:https://actionsevents.sustainablemedfield.org
X-WR-CALDESC:Events for Sustainable Medfield
REFRESH-INTERVAL;VALUE=DURATION:PT1H
X-Robots-Tag:noindex
X-PUBLISHED-TTL:PT1H
BEGIN:VTIMEZONE
TZID:America/New_York
BEGIN:DAYLIGHT
TZOFFSETFROM:-0500
TZOFFSETTO:-0400
TZNAME:EDT
DTSTART:20240310T070000
END:DAYLIGHT
BEGIN:STANDARD
TZOFFSETFROM:-0400
TZOFFSETTO:-0500
TZNAME:EST
DTSTART:20241103T060000
END:STANDARD
BEGIN:DAYLIGHT
TZOFFSETFROM:-0500
TZOFFSETTO:-0400
TZNAME:EDT
DTSTART:20250309T070000
END:DAYLIGHT
BEGIN:STANDARD
TZOFFSETFROM:-0400
TZOFFSETTO:-0500
TZNAME:EST
DTSTART:20251102T060000
END:STANDARD
BEGIN:DAYLIGHT
TZOFFSETFROM:-0500
TZOFFSETTO:-0400
TZNAME:EDT
DTSTART:20260308T070000
END:DAYLIGHT
BEGIN:STANDARD
TZOFFSETFROM:-0400
TZOFFSETTO:-0500
TZNAME:EST
DTSTART:20261101T060000
END:STANDARD
END:VTIMEZONE
BEGIN:VEVENT
DTSTART;TZID=America/New_York:20250622T190000
DTEND;TZID=America/New_York:20250622T213000
DTSTAMP:20260425T091647
CREATED:20251114T142451Z
LAST-MODIFIED:20251114T142451Z
UID:10000007-1750618800-1750627800@actionsevents.sustainablemedfield.org
SUMMARY:Sustainable Yard and Garden Tour in Medfield
DESCRIPTION:Speak with homeowners who practice sustainability with plants\, equipment and water. Learn how to start a pollinator garden\, Travel to each garden on your own – carpooling encouraged! There is no cost to attend\, and all are welcome.  \n  \n3:00pm: 10 Snyder Rd. \n3:40pm: 14 Stagecoach Rd.  \n4:20pm: 24 Marlyn Rd. \n5:00pm: 26 Pine St. \n  \nPlease register to receive more details on the gardens and any weather related changes. tinyurl.com/SustainableGardenTour-2025 \n  \nSponsored by Medfield Environment Action 
URL:https://actionsevents.sustainablemedfield.org/event/sustainable-yard-and-garden-tour-in-medfield/
LOCATION:MA
ATTACH;FMTTYPE=image/jpeg:https://massenergize-wp-media.s3.us-east-2.amazonaws.com/sites/22/yeard_garden_tour_plain-250611-031541.jpg
END:VEVENT
END:VCALENDAR