BEGIN:VCALENDAR
VERSION:2.0
PRODID:-//Sustainable Medfield - ECPv6.15.18//NONSGML v1.0//EN
CALSCALE:GREGORIAN
METHOD:PUBLISH
X-WR-CALNAME:Sustainable Medfield
X-ORIGINAL-URL:https://actionsevents.sustainablemedfield.org
X-WR-CALDESC:Events for Sustainable Medfield
REFRESH-INTERVAL;VALUE=DURATION:PT1H
X-Robots-Tag:noindex
X-PUBLISHED-TTL:PT1H
BEGIN:VTIMEZONE
TZID:America/New_York
BEGIN:DAYLIGHT
TZOFFSETFROM:-0500
TZOFFSETTO:-0400
TZNAME:EDT
DTSTART:20250309T070000
END:DAYLIGHT
BEGIN:STANDARD
TZOFFSETFROM:-0400
TZOFFSETTO:-0500
TZNAME:EST
DTSTART:20251102T060000
END:STANDARD
BEGIN:DAYLIGHT
TZOFFSETFROM:-0500
TZOFFSETTO:-0400
TZNAME:EDT
DTSTART:20260308T070000
END:DAYLIGHT
BEGIN:STANDARD
TZOFFSETFROM:-0400
TZOFFSETTO:-0500
TZNAME:EST
DTSTART:20261101T060000
END:STANDARD
BEGIN:DAYLIGHT
TZOFFSETFROM:-0500
TZOFFSETTO:-0400
TZNAME:EDT
DTSTART:20270314T070000
END:DAYLIGHT
BEGIN:STANDARD
TZOFFSETFROM:-0400
TZOFFSETTO:-0500
TZNAME:EST
DTSTART:20271107T060000
END:STANDARD
END:VTIMEZONE
BEGIN:VEVENT
DTSTART;TZID=America/New_York:20260506T071500
DTEND;TZID=America/New_York:20260506T073000
DTSTAMP:20260424T205634
CREATED:20260423T041836Z
LAST-MODIFIED:20260423T041836Z
UID:10000148-1778051700-1778052600@actionsevents.sustainablemedfield.org
SUMMARY:Walk or Bike to School Day at Dale Street
DESCRIPTION:Students in grades 4-5 are invited to Bike or Walk to School on Wed\, May 6th.  Dale Street students have the option to meet at Hinkley Pond at 7:15 am to join a “bike train” that will ride/walk together to the school.  There will also be a raffle for students to win tokens for the book vending machine. Bus transportation will still be available and follow the normal route and schedule.  Email medfieldbike2school@gmail.com with any questions.
URL:https://actionsevents.sustainablemedfield.org/event/walk-or-bike-to-school-day-at-dale-street/
LOCATION:MA
ATTACH;FMTTYPE=image/jpeg:https://actionsevents.sustainablemedfield.org/wp-content/uploads/sites/22/2026/04/Screenshot-2026-04-23-at-12.16.47-AM.jpg
END:VEVENT
BEGIN:VEVENT
DTSTART;TZID=America/New_York:20260506T090000
DTEND;TZID=America/New_York:20260506T150000
DTSTAMP:20260424T205634
CREATED:20260420T205734Z
LAST-MODIFIED:20260421T204530Z
UID:10000121-1778058000-1778079600@actionsevents.sustainablemedfield.org
SUMMARY:Swap Open Wednesday
DESCRIPTION:Come see what’s happening this season to save our planet! The purpose of the Swap Area is to divert items from going into the waste stream. The SWAP AREA is a convenient drop-off spot for unwanted items or a unique “shopping experience” at a bargain price\, it is FREE!  Items are NOT disposed of at the end of the day (as was done in the past)\, items generally remain at the SWAP for a few weeks to give them a chance to be seen and taken before recycled/repurposed. \n  \nThe Swap is open to Medfield residents who have a Transfer Station sticker. It is open through late September every Wednesday\, Friday\, and Saturday 9-3. Dropoffs until 2:30 each day. The area is decluttered daily and packed up items go to New Life\, Big Brother/Big Sister\, MADD or St. Vincent de Paul. Also partnering with Smash and Splash to remove broken pottery in addition to aiding local events.
URL:https://actionsevents.sustainablemedfield.org/event/swap-open-3/
LOCATION:Medfield Transfer Station\, 135 North Meadows Road\, Medfield\, 02052\, United States
ATTACH;FMTTYPE=image/jpeg:https://actionsevents.sustainablemedfield.org/wp-content/uploads/sites/22/2026/04/Screenshot-2026-04-20-at-4.37.47-PM.jpg
END:VEVENT
BEGIN:VEVENT
DTSTART;TZID=America/New_York:20260506T100000
DTEND;TZID=America/New_York:20260506T123000
DTSTAMP:20260424T205635
CREATED:20260423T041355Z
LAST-MODIFIED:20260423T041355Z
UID:10000149-1778061600-1778070600@actionsevents.sustainablemedfield.org
SUMMARY:Forest Bathing at Bellforge
DESCRIPTION:Join Bellforge for a guided forest bathing experience led by certified guide Tam Willey. This 2.5-hour outdoor session invites participants to slow down\, engage the senses\, and spend intentional time in nature through gentle\, optional prompts.This program is offered with open pricing\, with a $20 minimum. Participants are encouraged to contribute at a level that feels comfortable for them while supporting Bellforge’s commitment to accessible\, community-rooted programming.
URL:https://actionsevents.sustainablemedfield.org/event/forest-bathing-at-bellforge/
LOCATION:Bellforge Arts Center\, 45 Hospital Road\, Medfield\, MA\, 02052\, United States
ATTACH;FMTTYPE=image/jpeg:https://actionsevents.sustainablemedfield.org/wp-content/uploads/sites/22/2026/04/Screenshot-2026-04-23-at-12.12.40-AM.jpg
END:VEVENT
BEGIN:VEVENT
DTSTART;TZID=America/New_York:20260506T154500
DTEND;TZID=America/New_York:20260506T174500
DTSTAMP:20260424T205635
CREATED:20260421T203743Z
LAST-MODIFIED:20260424T164207Z
UID:10000134-1778082300-1778089500@actionsevents.sustainablemedfield.org
SUMMARY:Utility Bill Check-up
DESCRIPTION:Attend this drop-in event to \n\nSee if you are eligible for any discounts\nUnderstand your gas and electric bills\nExplore payment plans\nCheck your electric supplier\nPrevent utility shutoffs\n\nStop by and have a private conversation about your utility bills.   Bring your bills with you or have access to them online. \n  \nSierra Moll from the MA Attorney General’s Office will be on hand to share resources with Medfielders! \nThis event is co-sponsored by Sustainable Medfield\, Medfield Energy Committee\, Center at Medfield and Medfield Community Electricity (the Community Choice Aggregation Committee).
URL:https://actionsevents.sustainablemedfield.org/event/utility-bill-check-up/
LOCATION:Medfield Public Library\, Medfield
ATTACH;FMTTYPE=image/png:https://actionsevents.sustainablemedfield.org/wp-content/uploads/sites/22/2026/04/Utility-Bill-Check-up-1.png
END:VEVENT
BEGIN:VEVENT
DTSTART;TZID=America/New_York:20260506T163000
DTEND;TZID=America/New_York:20260506T183000
DTSTAMP:20260424T205635
CREATED:20260423T041120Z
LAST-MODIFIED:20260423T041120Z
UID:10000150-1778085000-1778092200@actionsevents.sustainablemedfield.org
SUMMARY:Leaf Blowers - What’s All the Noise About?
DESCRIPTION:Sustainable Yard Care Group of Medfield Environment Action is presenting this forum. \nWatch a 30 minute video of a panelist discussion on the harmful human and environmental effects of gas powered leaf blowers. Hear about healthier alternatives from two local landscapers and a Medfield homeowner. Followed by additional discussion and thoughtful conversation.
URL:https://actionsevents.sustainablemedfield.org/event/leaf-blowers-whats-all-the-noise-about/
LOCATION:Medfield Public Safety Building\, 112 North St\, Medfield\, MA\, United States
ATTACH;FMTTYPE=image/png:https://actionsevents.sustainablemedfield.org/wp-content/uploads/sites/22/2026/04/leaf-blower-1-1-1-1.png
END:VEVENT
END:VCALENDAR