BEGIN:VCALENDAR
VERSION:2.0
PRODID:-//Sustainable Medfield - ECPv6.15.18//NONSGML v1.0//EN
CALSCALE:GREGORIAN
METHOD:PUBLISH
X-WR-CALNAME:Sustainable Medfield
X-ORIGINAL-URL:https://actionsevents.sustainablemedfield.org
X-WR-CALDESC:Events for Sustainable Medfield
REFRESH-INTERVAL;VALUE=DURATION:PT1H
X-Robots-Tag:noindex
X-PUBLISHED-TTL:PT1H
BEGIN:VTIMEZONE
TZID:America/New_York
BEGIN:DAYLIGHT
TZOFFSETFROM:-0500
TZOFFSETTO:-0400
TZNAME:EDT
DTSTART:20250309T070000
END:DAYLIGHT
BEGIN:STANDARD
TZOFFSETFROM:-0400
TZOFFSETTO:-0500
TZNAME:EST
DTSTART:20251102T060000
END:STANDARD
BEGIN:DAYLIGHT
TZOFFSETFROM:-0500
TZOFFSETTO:-0400
TZNAME:EDT
DTSTART:20260308T070000
END:DAYLIGHT
BEGIN:STANDARD
TZOFFSETFROM:-0400
TZOFFSETTO:-0500
TZNAME:EST
DTSTART:20261101T060000
END:STANDARD
BEGIN:DAYLIGHT
TZOFFSETFROM:-0500
TZOFFSETTO:-0400
TZNAME:EDT
DTSTART:20270314T070000
END:DAYLIGHT
BEGIN:STANDARD
TZOFFSETFROM:-0400
TZOFFSETTO:-0500
TZNAME:EST
DTSTART:20271107T060000
END:STANDARD
END:VTIMEZONE
BEGIN:VEVENT
DTSTART;TZID=America/New_York:20260502T090000
DTEND;TZID=America/New_York:20260502T130000
DTSTAMP:20260424T192007
CREATED:20260419T192249Z
LAST-MODIFIED:20260419T192311Z
UID:10000057-1777712400-1777726800@actionsevents.sustainablemedfield.org
SUMMARY:Climate-Friendly Flower and Plant Sale by Church of the Advent
DESCRIPTION:Featuring: \n\nPollinators ~ a fantastic way to attract pollinator species like monarch butterflies and honey bees.\nPerennials ~ once planted\, they return each spring.\nAnnual Flowers ~ also attract pollinators and can become the perfect background to perennial flowers in your garden.\nHerbs ~ heat and drought tolerant\, i.e.\, rosemary\, basil\, lemon balm\, oregano\, sage\, thyme.\nBird houses ~ support biodiversity and protect endangered bird species.\nBat houses ~ bats consume vast amounts of mosquitos\, moths\, and beetles\, reducing pesticide use.\nA “New To You” table of pots and garden accessories…the perfect way to repurpose/reuse.
URL:https://actionsevents.sustainablemedfield.org/event/climate-friendly-flower-and-plant-sale/
LOCATION:Church of the Advent\, 28 Pleasant St.\, Medfield\, MA\, US
ATTACH;FMTTYPE=image/jpeg:https://actionsevents.sustainablemedfield.org/wp-content/uploads/sites/22/2026/04/Plant-Sale-Church-of-Advent.jpg
END:VEVENT
BEGIN:VEVENT
DTSTART;TZID=America/New_York:20260502T090000
DTEND;TZID=America/New_York:20260502T130000
DTSTAMP:20260424T192007
CREATED:20260423T042549Z
LAST-MODIFIED:20260423T164752Z
UID:10000143-1777712400-1777726800@actionsevents.sustainablemedfield.org
SUMMARY:Honeybee Info Table Meet Ed Rock and His Bees
DESCRIPTION:Meet Ed\, the beekeeper and take an immersive look at the lives of honeybees\, their vital role in our environment and food supply\, and the beekeeper’s craft. There will be opportunity for hands-on equipment exploration\, local honey tasting\, and a grand finale featuring a LIVE observation hive. Sponsored by Norfolk County Beekeepers Association and ClassroomHives.org.
URL:https://actionsevents.sustainablemedfield.org/event/honeybee-info-table-meet-ed-rock-and-his-bees/
LOCATION:Church of the Advent\, 28 Pleasant St.\, Medfield\, MA\, US
ATTACH;FMTTYPE=image/jpeg:https://actionsevents.sustainablemedfield.org/wp-content/uploads/sites/22/2026/04/Beekeeper-Flyer_page-0001.jpg
END:VEVENT
BEGIN:VEVENT
DTSTART;TZID=America/New_York:20260502T090000
DTEND;TZID=America/New_York:20260502T140000
DTSTAMP:20260424T192007
CREATED:20260420T214107Z
LAST-MODIFIED:20260420T214107Z
UID:10000123-1777712400-1777730400@actionsevents.sustainablemedfield.org
SUMMARY:Electronics Recycling
DESCRIPTION:Recycle your unwanted electronics. Most electronics are acceptable some have a small fee. \nAcceptable items and rates: CRT televisions above 24” \nand Projection/Console TVs – $40.00 \nFlat screen TVs and CRT televisions below 24” – $30.00 \nCRT Monitors – $15 \nPrinters/Copiers – $5 \nToner used or unused – $5 \nVENDOR TO ACCEPT CASH OR CHECK ONLY
URL:https://actionsevents.sustainablemedfield.org/event/electronics-recycling/
LOCATION:Medfield Transfer Station\, 135 North Meadows Road\, Medfield\, 02052\, United States
ATTACH;FMTTYPE=image/jpeg:https://actionsevents.sustainablemedfield.org/wp-content/uploads/sites/22/2026/04/Screenshot-2026-04-20-at-5.39.28-PM.jpg
END:VEVENT
BEGIN:VEVENT
DTSTART;TZID=America/New_York:20260502T090000
DTEND;TZID=America/New_York:20260502T150000
DTSTAMP:20260424T192007
CREATED:20260420T204938Z
LAST-MODIFIED:20260421T205355Z
UID:10000114-1777712400-1777734000@actionsevents.sustainablemedfield.org
SUMMARY:Swap Open!
DESCRIPTION:Come see what’s happening this season to save our planet! The purpose of the Swap Area is to divert items from going into the waste stream. The SWAP AREA is a convenient drop-off spot for unwanted items or a unique “shopping experience” at a bargain price\, it is FREE!  Items are NOT disposed of at the end of the day (as was done in the past)\, items generally remain at the SWAP for a few weeks to give them a chance to be seen and taken before recycled/repurposed. \n  \nThe Swap is open to Medfield residents who have a Transfer Station sticker. It is open through late September every Wednesday\, Friday\, and Saturday 9-3. Dropoffs until 2:30 each day. The area is decluttered daily and packed up items go to New Life\, Big Brother/Big Sister\, MADD or St. Vincent de Paul. Also partnering with Smash and Splash to remove broken pottery in addition to aiding local events.
URL:https://actionsevents.sustainablemedfield.org/event/swap-open-2/
LOCATION:Medfield Transfer Station\, 135 North Meadows Road\, Medfield\, 02052\, United States
ATTACH;FMTTYPE=image/jpeg:https://actionsevents.sustainablemedfield.org/wp-content/uploads/sites/22/2026/04/Screenshot-2026-04-20-at-4.37.47-PM.jpg
END:VEVENT
BEGIN:VEVENT
DTSTART;TZID=America/New_York:20260502T100000
DTEND;TZID=America/New_York:20260502T130000
DTSTAMP:20260424T192007
CREATED:20260422T163100Z
LAST-MODIFIED:20260422T163100Z
UID:10000139-1777716000-1777726800@actionsevents.sustainablemedfield.org
SUMMARY:Fairy Walk at Bellforge
DESCRIPTION:This year’s Fairy Walk 2026: Fun at the ‘Forge will include:\n• A Fairy House Walk across the Bellforge campus (free to attend)\n• The chance to display your own fairy house with us (no cost to participate)\n• Enchanted forest painting\n• A joyful Holi celebration of color\n• Magical learning experiences\n• Free face painting\n• Food and drink will be available from Solarium Coffee\, Mirchi Indian Cuisine\, Pangea Cuisines\, and TC Scoops. \nRain Date May 3 at 10 am
URL:https://actionsevents.sustainablemedfield.org/event/fairy-walk-at-bellforge/
LOCATION:Bellforge Arts Center\, 45 Hospital Road\, Medfield\, MA\, 02052\, United States
ATTACH;FMTTYPE=image/jpeg:https://actionsevents.sustainablemedfield.org/wp-content/uploads/sites/22/2026/04/Screenshot-2026-04-22-at-12.30.16-PM.jpg
END:VEVENT
BEGIN:VEVENT
DTSTART;TZID=America/New_York:20260502T100000
DTEND;TZID=America/New_York:20260502T150000
DTSTAMP:20260424T192007
CREATED:20260422T163602Z
LAST-MODIFIED:20260422T163602Z
UID:10000138-1777716000-1777734000@actionsevents.sustainablemedfield.org
SUMMARY:Medfield Fairy Walk
DESCRIPTION:5th Annual Fairy Walk at Hinkley Park\, filled with all the wonderful activities our families have come to love like the fairy house contest\, face painting\, food trucks\, vendors\, unicorn rides and perhaps a few new surprises sprinkled in! Raises money for the Medfield community in partnership with the Library and Park & Rec\, making the day not only magical but meaningful as well. \nRain Date May 3 10:00 – 3:00 pm
URL:https://actionsevents.sustainablemedfield.org/event/medfield-fairy-walk/
LOCATION:MA
ATTACH;FMTTYPE=image/jpeg:https://actionsevents.sustainablemedfield.org/wp-content/uploads/sites/22/2026/04/Screenshot-2026-04-22-at-12.33.51-PM.jpg
END:VEVENT
END:VCALENDAR