BEGIN:VCALENDAR
VERSION:2.0
PRODID:-//Sustainable Medfield - ECPv6.15.18//NONSGML v1.0//EN
CALSCALE:GREGORIAN
METHOD:PUBLISH
X-WR-CALNAME:Sustainable Medfield
X-ORIGINAL-URL:https://actionsevents.sustainablemedfield.org
X-WR-CALDESC:Events for Sustainable Medfield
REFRESH-INTERVAL;VALUE=DURATION:PT1H
X-Robots-Tag:noindex
X-PUBLISHED-TTL:PT1H
BEGIN:VTIMEZONE
TZID:America/New_York
BEGIN:DAYLIGHT
TZOFFSETFROM:-0500
TZOFFSETTO:-0400
TZNAME:EDT
DTSTART:20250309T070000
END:DAYLIGHT
BEGIN:STANDARD
TZOFFSETFROM:-0400
TZOFFSETTO:-0500
TZNAME:EST
DTSTART:20251102T060000
END:STANDARD
BEGIN:DAYLIGHT
TZOFFSETFROM:-0500
TZOFFSETTO:-0400
TZNAME:EDT
DTSTART:20260308T070000
END:DAYLIGHT
BEGIN:STANDARD
TZOFFSETFROM:-0400
TZOFFSETTO:-0500
TZNAME:EST
DTSTART:20261101T060000
END:STANDARD
BEGIN:DAYLIGHT
TZOFFSETFROM:-0500
TZOFFSETTO:-0400
TZNAME:EDT
DTSTART:20270314T070000
END:DAYLIGHT
BEGIN:STANDARD
TZOFFSETFROM:-0400
TZOFFSETTO:-0500
TZNAME:EST
DTSTART:20271107T060000
END:STANDARD
END:VTIMEZONE
BEGIN:VEVENT
DTSTART;TZID=America/New_York:20260418T080000
DTEND;TZID=America/New_York:20260419T170000
DTSTAMP:20260424T191958
CREATED:20260326T162007Z
LAST-MODIFIED:20260330T185432Z
UID:10000048-1776499200-1776618000@actionsevents.sustainablemedfield.org
SUMMARY:Clean up Days
DESCRIPTION:Help make Medfield Beautiful! Join the clean up.
URL:https://actionsevents.sustainablemedfield.org/event/clean-up-days/
LOCATION:MA
ATTACH;FMTTYPE=image/jpeg:https://actionsevents.sustainablemedfield.org/wp-content/uploads/sites/22/2026/03/Screenshot-2026-03-30-at-2.53.56-PM.jpg
END:VEVENT
BEGIN:VEVENT
DTSTART;TZID=America/New_York:20260419T100000
DTEND;TZID=America/New_York:20260419T110000
DTSTAMP:20260424T191958
CREATED:20260416T163933Z
LAST-MODIFIED:20260416T164426Z
UID:10000056-1776592800-1776596400@actionsevents.sustainablemedfield.org
SUMMARY:Osler “Pete” Peterson To Be the 2026 Earth Day Speaker at First Parish
DESCRIPTION:Every year\, Medfield’s First Parish Unitarian Universalist church holds a special Sunday service in honor of Earth Day. This year’s service\, on Sunday\, April 19\, will feature  a prominent speaker: local attorney and long-time Select Board member Osler “Pete” Peterson. \nIn his role as a member of the Medfield Select Board\, Mr. Peterson has been a tireless advocate of green climate policies. On April 19\, he will speak about his experiences as a member of Medfield’s Energy Committee and about the climate issues and challenges faced by Medfield and similar towns in our area. \nEveryone welcome!
URL:https://actionsevents.sustainablemedfield.org/event/osler-pete-peterson-to-be-the-2026-earth-day-speaker-at-first-parish-2/
LOCATION:First Parish Unitarian Universalist Church\, 26 North Street\, Medfield\, MA\, United States
END:VEVENT
END:VCALENDAR