BEGIN:VCALENDAR
VERSION:2.0
PRODID:-//Sustainable Medfield - ECPv6.15.18//NONSGML v1.0//EN
CALSCALE:GREGORIAN
METHOD:PUBLISH
X-WR-CALNAME:Sustainable Medfield
X-ORIGINAL-URL:https://actionsevents.sustainablemedfield.org
X-WR-CALDESC:Events for Sustainable Medfield
REFRESH-INTERVAL;VALUE=DURATION:PT1H
X-Robots-Tag:noindex
X-PUBLISHED-TTL:PT1H
BEGIN:VTIMEZONE
TZID:America/New_York
BEGIN:DAYLIGHT
TZOFFSETFROM:-0500
TZOFFSETTO:-0400
TZNAME:EDT
DTSTART:20240310T070000
END:DAYLIGHT
BEGIN:STANDARD
TZOFFSETFROM:-0400
TZOFFSETTO:-0500
TZNAME:EST
DTSTART:20241103T060000
END:STANDARD
BEGIN:DAYLIGHT
TZOFFSETFROM:-0500
TZOFFSETTO:-0400
TZNAME:EDT
DTSTART:20250309T070000
END:DAYLIGHT
BEGIN:STANDARD
TZOFFSETFROM:-0400
TZOFFSETTO:-0500
TZNAME:EST
DTSTART:20251102T060000
END:STANDARD
BEGIN:DAYLIGHT
TZOFFSETFROM:-0500
TZOFFSETTO:-0400
TZNAME:EDT
DTSTART:20260308T070000
END:DAYLIGHT
BEGIN:STANDARD
TZOFFSETFROM:-0400
TZOFFSETTO:-0500
TZNAME:EST
DTSTART:20261101T060000
END:STANDARD
END:VTIMEZONE
BEGIN:VEVENT
DTSTART;TZID=America/New_York:20250503T040000
DTEND;TZID=America/New_York:20250511T035900
DTSTAMP:20260425T124221
CREATED:20251114T142457Z
LAST-MODIFIED:20251114T142457Z
UID:10000013-1746244800-1746935940@actionsevents.sustainablemedfield.org
SUMMARY:Medfield’s Third Annual Climate Week
DESCRIPTION:Medfield Environment Action is excited to announce Medfield’s third annual Climate Week from Saturday\, May 3rd – Saturday\, May 10th. A variety of unique events are taking place throughout the week at various locations around town. The goal is to have fun\, spread awareness\, educate\, and network with neighbors. For a schedule of events\, visit https://meamedfield.org/. Check the live schedule often as events are subject to change and new ones added. Any questions\, please email meamedfield@gmail.com.
URL:https://actionsevents.sustainablemedfield.org/event/medfields-third-annual-climate-week/
LOCATION:Throughout\, Medfield\, Throughout\, Medfield\, Massachusetts\, US
ATTACH;FMTTYPE=image/jpeg:https://massenergize-wp-media.s3.us-east-2.amazonaws.com/sites/22/ClimateWeek_2025_MEA-250428-042246.jpg
END:VEVENT
BEGIN:VEVENT
DTSTART;TZID=America/New_York:20250509T220000
DTEND;TZID=America/New_York:20250510T000000
DTSTAMP:20260425T124221
CREATED:20251114T142454Z
LAST-MODIFIED:20251114T142454Z
UID:10000009-1746828000-1746835200@actionsevents.sustainablemedfield.org
SUMMARY:Large-scale Solar & Wind Presentation
DESCRIPTION:The need for energy is not going away and is in fact rising exponentially with the advent of artificial intelligence and the insatiable need for more data in our technology. How is the energy sector preparing for this and what is the fastest\, lowest cost and cleanest way to add gigawatts of energy to our grid? Come learn about large scale solar and wind development as we myth bust some of the misinformation that has prevented clean energy adoption across the United States\, but especially in the Northeast. We’ll cover the market conditions\, policies that impact renewables development\, and the unique innovations that address the community engagement and siting challenges. \n  \nPresenters:  \nLucy Bullock-Sieger\, Chief Strategy Officer\, Lightstar Renewables  \nDaniel Sieger\, President\, RWE Community Offshore Wind \n  \nPart of Medfield Climate Week – For more information about this and other events visit https://meamedfield.org/
URL:https://actionsevents.sustainablemedfield.org/event/large-scale-solar-wind-presentation/
LOCATION:Church of the Advent\, 28 Pleasant St.\, Medfield\, MA\, US
ATTACH;FMTTYPE=image/jpeg:https://massenergize-wp-media.s3.us-east-2.amazonaws.com/sites/22/Large-scaleSolarWind_CoA_MEA-250428-033652.jpg
END:VEVENT
END:VCALENDAR