BEGIN:VCALENDAR
VERSION:2.0
PRODID:-//Sustainable Medfield - ECPv6.15.18//NONSGML v1.0//EN
CALSCALE:GREGORIAN
METHOD:PUBLISH
X-WR-CALNAME:Sustainable Medfield
X-ORIGINAL-URL:https://actionsevents.sustainablemedfield.org
X-WR-CALDESC:Events for Sustainable Medfield
REFRESH-INTERVAL;VALUE=DURATION:PT1H
X-Robots-Tag:noindex
X-PUBLISHED-TTL:PT1H
BEGIN:VTIMEZONE
TZID:America/New_York
BEGIN:DAYLIGHT
TZOFFSETFROM:-0500
TZOFFSETTO:-0400
TZNAME:EDT
DTSTART:20240310T070000
END:DAYLIGHT
BEGIN:STANDARD
TZOFFSETFROM:-0400
TZOFFSETTO:-0500
TZNAME:EST
DTSTART:20241103T060000
END:STANDARD
BEGIN:DAYLIGHT
TZOFFSETFROM:-0500
TZOFFSETTO:-0400
TZNAME:EDT
DTSTART:20250309T070000
END:DAYLIGHT
BEGIN:STANDARD
TZOFFSETFROM:-0400
TZOFFSETTO:-0500
TZNAME:EST
DTSTART:20251102T060000
END:STANDARD
BEGIN:DAYLIGHT
TZOFFSETFROM:-0500
TZOFFSETTO:-0400
TZNAME:EDT
DTSTART:20260308T070000
END:DAYLIGHT
BEGIN:STANDARD
TZOFFSETFROM:-0400
TZOFFSETTO:-0500
TZNAME:EST
DTSTART:20261101T060000
END:STANDARD
END:VTIMEZONE
BEGIN:VEVENT
DTSTART;TZID=America/New_York:20250503T040000
DTEND;TZID=America/New_York:20250511T035900
DTSTAMP:20260425T124154
CREATED:20251114T142457Z
LAST-MODIFIED:20251114T142457Z
UID:10000013-1746244800-1746935940@actionsevents.sustainablemedfield.org
SUMMARY:Medfield’s Third Annual Climate Week
DESCRIPTION:Medfield Environment Action is excited to announce Medfield’s third annual Climate Week from Saturday\, May 3rd – Saturday\, May 10th. A variety of unique events are taking place throughout the week at various locations around town. The goal is to have fun\, spread awareness\, educate\, and network with neighbors. For a schedule of events\, visit https://meamedfield.org/. Check the live schedule often as events are subject to change and new ones added. Any questions\, please email meamedfield@gmail.com.
URL:https://actionsevents.sustainablemedfield.org/event/medfields-third-annual-climate-week/
LOCATION:Throughout\, Medfield\, Throughout\, Medfield\, Massachusetts\, US
ATTACH;FMTTYPE=image/jpeg:https://massenergize-wp-media.s3.us-east-2.amazonaws.com/sites/22/ClimateWeek_2025_MEA-250428-042246.jpg
END:VEVENT
BEGIN:VEVENT
DTSTART;TZID=America/New_York:20250504T170000
DTEND;TZID=America/New_York:20250504T190000
DTSTAMP:20260425T124154
CREATED:20251114T142455Z
LAST-MODIFIED:20251114T142455Z
UID:10000010-1746378000-1746385200@actionsevents.sustainablemedfield.org
SUMMARY:EV Car Show
DESCRIPTION:Come talk to local owners of plug-in hybrids and all-electric models and test drive a new Lucid! \nIce cream and a kids’ craft table will be available \nOrganized by Sustainable Medfield and the Medfield Energy Committee 
URL:https://actionsevents.sustainablemedfield.org/event/ev-car-show/
LOCATION:The Center at Medfield\, 1 Ice House Road\, Medfield\, Massachusetts\, US
ATTACH;FMTTYPE=image/jpeg:https://massenergize-wp-media.s3.us-east-2.amazonaws.com/sites/22/EVCarandTruckShow_2025_SM_MEC-250414-105258.jpg
END:VEVENT
BEGIN:VEVENT
DTSTART;TZID=America/New_York:20250504T170000
DTEND;TZID=America/New_York:20250504T200000
DTSTAMP:20260425T124154
CREATED:20251114T142455Z
LAST-MODIFIED:20251114T142455Z
UID:10000011-1746378000-1746388800@actionsevents.sustainablemedfield.org
SUMMARY:Climate Carnival
DESCRIPTION:Play Carnival Climate Games from Mass Energize. Original hand-constructed cooperative game sets made of wood created to promote learning about climate change. Shop for beautiful scarves\, jewelry\, and other fashion accessories\, all previously owned. Try a vegan frozen tiny cone for $1 donation. Various flavors and brands.. \nPart of Medfield Climate Week – For more information about this and other events visit https://meamedfield.org/ 
URL:https://actionsevents.sustainablemedfield.org/event/climate-carnival/
LOCATION:First Parish Unitarian Universalist Church\, 26 North Street\, Medfield\, MA\, United States
ATTACH;FMTTYPE=image/jpeg:https://massenergize-wp-media.s3.us-east-2.amazonaws.com/sites/22/ClimateCarnival_MEA-250428-044654.jpg
END:VEVENT
END:VCALENDAR