BEGIN:VCALENDAR
VERSION:2.0
PRODID:-//Sustainable Medfield - ECPv6.15.18//NONSGML v1.0//EN
CALSCALE:GREGORIAN
METHOD:PUBLISH
X-WR-CALNAME:Sustainable Medfield
X-ORIGINAL-URL:https://actionsevents.sustainablemedfield.org
X-WR-CALDESC:Events for Sustainable Medfield
REFRESH-INTERVAL;VALUE=DURATION:PT1H
X-Robots-Tag:noindex
X-PUBLISHED-TTL:PT1H
BEGIN:VTIMEZONE
TZID:America/New_York
BEGIN:DAYLIGHT
TZOFFSETFROM:-0500
TZOFFSETTO:-0400
TZNAME:EDT
DTSTART:20250309T070000
END:DAYLIGHT
BEGIN:STANDARD
TZOFFSETFROM:-0400
TZOFFSETTO:-0500
TZNAME:EST
DTSTART:20251102T060000
END:STANDARD
BEGIN:DAYLIGHT
TZOFFSETFROM:-0500
TZOFFSETTO:-0400
TZNAME:EDT
DTSTART:20260308T070000
END:DAYLIGHT
BEGIN:STANDARD
TZOFFSETFROM:-0400
TZOFFSETTO:-0500
TZNAME:EST
DTSTART:20261101T060000
END:STANDARD
BEGIN:DAYLIGHT
TZOFFSETFROM:-0500
TZOFFSETTO:-0400
TZNAME:EDT
DTSTART:20270314T070000
END:DAYLIGHT
BEGIN:STANDARD
TZOFFSETFROM:-0400
TZOFFSETTO:-0500
TZNAME:EST
DTSTART:20271107T060000
END:STANDARD
END:VTIMEZONE
BEGIN:VEVENT
DTSTART;TZID=America/New_York:20260506T071500
DTEND;TZID=America/New_York:20260506T073000
DTSTAMP:20260424T192259
CREATED:20260423T041836Z
LAST-MODIFIED:20260423T041836Z
UID:6287-1778051700-1778052600@actionsevents.sustainablemedfield.org
SUMMARY:Walk or Bike to School Day at Dale Street
DESCRIPTION:Students in grades 4-5 are invited to Bike or Walk to School on Wed\, May 6th.  Dale Street students have the option to meet at Hinkley Pond at 7:15 am to join a “bike train” that will ride/walk together to the school.  There will also be a raffle for students to win tokens for the book vending machine. Bus transportation will still be available and follow the normal route and schedule.  Email medfieldbike2school@gmail.com with any questions.
URL:https://actionsevents.sustainablemedfield.org/event/walk-or-bike-to-school-day-at-dale-street/
ATTACH;FMTTYPE=image/jpeg:https://actionsevents.sustainablemedfield.org/wp-content/uploads/sites/22/2026/04/Screenshot-2026-04-23-at-12.16.47-AM.jpg
END:VEVENT
END:VCALENDAR