BEGIN:VCALENDAR
VERSION:2.0
PRODID:-//Sustainable Medfield - ECPv6.15.18//NONSGML v1.0//EN
CALSCALE:GREGORIAN
METHOD:PUBLISH
X-WR-CALNAME:Sustainable Medfield
X-ORIGINAL-URL:https://actionsevents.sustainablemedfield.org
X-WR-CALDESC:Events for Sustainable Medfield
REFRESH-INTERVAL;VALUE=DURATION:PT1H
X-Robots-Tag:noindex
X-PUBLISHED-TTL:PT1H
BEGIN:VTIMEZONE
TZID:America/New_York
BEGIN:DAYLIGHT
TZOFFSETFROM:-0500
TZOFFSETTO:-0400
TZNAME:EDT
DTSTART:20250309T070000
END:DAYLIGHT
BEGIN:STANDARD
TZOFFSETFROM:-0400
TZOFFSETTO:-0500
TZNAME:EST
DTSTART:20251102T060000
END:STANDARD
BEGIN:DAYLIGHT
TZOFFSETFROM:-0500
TZOFFSETTO:-0400
TZNAME:EDT
DTSTART:20260308T070000
END:DAYLIGHT
BEGIN:STANDARD
TZOFFSETFROM:-0400
TZOFFSETTO:-0500
TZNAME:EST
DTSTART:20261101T060000
END:STANDARD
BEGIN:DAYLIGHT
TZOFFSETFROM:-0500
TZOFFSETTO:-0400
TZNAME:EDT
DTSTART:20270314T070000
END:DAYLIGHT
BEGIN:STANDARD
TZOFFSETFROM:-0400
TZOFFSETTO:-0500
TZNAME:EST
DTSTART:20271107T060000
END:STANDARD
END:VTIMEZONE
BEGIN:VEVENT
DTSTART;TZID=America/New_York:20260507T120000
DTEND;TZID=America/New_York:20260507T140000
DTSTAMP:20260424T205510
CREATED:20260423T040952Z
LAST-MODIFIED:20260423T040952Z
UID:6303-1778155200-1778162400@actionsevents.sustainablemedfield.org
SUMMARY:Spring Cooking Class
DESCRIPTION:Join others in making a delicious light salad and share with other attendees.  Learn all about the benefits of CSAs (Community Supported Agriculture) and eating local for the earth and for humans.  Handouts will be provided. Peg is an holistic health coach with expertise in nutrition and a healthy lifestyle.   Please rsvp to Peg Doyle\, peg@wellnessandyou.com for details and location. \nLimit of 6-8 people 
URL:https://actionsevents.sustainablemedfield.org/event/spring-cooking-class/
LOCATION:residence\, Medfield\, MA\, United States
ATTACH;FMTTYPE=image/jpeg:https://actionsevents.sustainablemedfield.org/wp-content/uploads/sites/22/2026/04/Screenshot-2026-04-23-at-12.08.47-AM.jpg
ORGANIZER;CN="Peg Doyle":MAILTO:peg@wellnessnadyou.com
END:VEVENT
END:VCALENDAR