BEGIN:VCALENDAR
VERSION:2.0
PRODID:-//Sustainable Medfield - ECPv6.15.18//NONSGML v1.0//EN
CALSCALE:GREGORIAN
METHOD:PUBLISH
X-WR-CALNAME:Sustainable Medfield
X-ORIGINAL-URL:https://actionsevents.sustainablemedfield.org
X-WR-CALDESC:Events for Sustainable Medfield
REFRESH-INTERVAL;VALUE=DURATION:PT1H
X-Robots-Tag:noindex
X-PUBLISHED-TTL:PT1H
BEGIN:VTIMEZONE
TZID:America/New_York
BEGIN:DAYLIGHT
TZOFFSETFROM:-0500
TZOFFSETTO:-0400
TZNAME:EDT
DTSTART:20250309T070000
END:DAYLIGHT
BEGIN:STANDARD
TZOFFSETFROM:-0400
TZOFFSETTO:-0500
TZNAME:EST
DTSTART:20251102T060000
END:STANDARD
BEGIN:DAYLIGHT
TZOFFSETFROM:-0500
TZOFFSETTO:-0400
TZNAME:EDT
DTSTART:20260308T070000
END:DAYLIGHT
BEGIN:STANDARD
TZOFFSETFROM:-0400
TZOFFSETTO:-0500
TZNAME:EST
DTSTART:20261101T060000
END:STANDARD
BEGIN:DAYLIGHT
TZOFFSETFROM:-0500
TZOFFSETTO:-0400
TZNAME:EDT
DTSTART:20270314T070000
END:DAYLIGHT
BEGIN:STANDARD
TZOFFSETFROM:-0400
TZOFFSETTO:-0500
TZNAME:EST
DTSTART:20271107T060000
END:STANDARD
END:VTIMEZONE
BEGIN:VEVENT
DTSTART;TZID=America/New_York:20260509T140000
DTEND;TZID=America/New_York:20260509T170000
DTSTAMP:20260424T205619
CREATED:20260326T162759Z
LAST-MODIFIED:20260423T194552Z
UID:5876-1778335200-1778346000@actionsevents.sustainablemedfield.org
SUMMARY:Repair Cafe
DESCRIPTION:Come to the repair cafe and give your broken items new life! \nVolunteers with repair skills donate their time and tools to help community members fix common items including clothing\, jewelry\, lamps\, locks (rekeying)\, bikes\, furniture and small appliances. \nThe fix is free but not guaranteed. \nResidents bring any required parts and sign a waiver. \nThere is a small “parts store” for common items.
URL:https://actionsevents.sustainablemedfield.org/event/repair-cafe/
LOCATION:Church of the Advent\, 28 Pleasant St.\, Medfield\, MA\, US
ATTACH;FMTTYPE=image/png:https://actionsevents.sustainablemedfield.org/wp-content/uploads/sites/22/2026/03/Picture1.png
END:VEVENT
END:VCALENDAR