BEGIN:VCALENDAR
VERSION:2.0
PRODID:-//Sustainable Medfield - ECPv6.15.18//NONSGML v1.0//EN
CALSCALE:GREGORIAN
METHOD:PUBLISH
X-WR-CALNAME:Sustainable Medfield
X-ORIGINAL-URL:https://actionsevents.sustainablemedfield.org
X-WR-CALDESC:Events for Sustainable Medfield
REFRESH-INTERVAL;VALUE=DURATION:PT1H
X-Robots-Tag:noindex
X-PUBLISHED-TTL:PT1H
BEGIN:VTIMEZONE
TZID:America/New_York
BEGIN:DAYLIGHT
TZOFFSETFROM:-0500
TZOFFSETTO:-0400
TZNAME:EDT
DTSTART:20250309T070000
END:DAYLIGHT
BEGIN:STANDARD
TZOFFSETFROM:-0400
TZOFFSETTO:-0500
TZNAME:EST
DTSTART:20251102T060000
END:STANDARD
BEGIN:DAYLIGHT
TZOFFSETFROM:-0500
TZOFFSETTO:-0400
TZNAME:EDT
DTSTART:20260308T070000
END:DAYLIGHT
BEGIN:STANDARD
TZOFFSETFROM:-0400
TZOFFSETTO:-0500
TZNAME:EST
DTSTART:20261101T060000
END:STANDARD
BEGIN:DAYLIGHT
TZOFFSETFROM:-0500
TZOFFSETTO:-0400
TZNAME:EDT
DTSTART:20270314T070000
END:DAYLIGHT
BEGIN:STANDARD
TZOFFSETFROM:-0400
TZOFFSETTO:-0500
TZNAME:EST
DTSTART:20271107T060000
END:STANDARD
END:VTIMEZONE
BEGIN:VEVENT
DTSTART;TZID=America/New_York:20260503T113000
DTEND;TZID=America/New_York:20260503T123000
DTSTAMP:20260424T174107
CREATED:20260423T042505Z
LAST-MODIFIED:20260423T042505Z
UID:6263-1777807800-1777811400@actionsevents.sustainablemedfield.org
SUMMARY:Path for Hope -- Medfield Rail Trail Nature Walk
DESCRIPTION:Join the Medfield Coalition for Suicide Prevention (MCSP) as we come together to walk.  Walk to honor those we’ve lost to suicide.  Walk to celebrate the strength and resilience of their loved ones.  Walk to foster community\, connection and hope. Sponsored by MCSP\, a community-led coalition administered by Medfield Outreach\, the Town of Medfield’s social service department.  The mission of MCSP is to promote the mental health and emotional well-being of all community members. The vision of MCSP is to build a community where suicide\, self-harm\, and stigma have been replaced by hope\, self-care\, and acceptance. \nMeet at Rail Trail entrance on Ice House Rd.
URL:https://actionsevents.sustainablemedfield.org/event/path-for-hope-medfield-rail-trail-nature-walk/
LOCATION:Rail Trail entrance\, Ice House Rd\, Medfield\, MA\, United States
ATTACH;FMTTYPE=image/jpeg:https://actionsevents.sustainablemedfield.org/wp-content/uploads/sites/22/2026/04/rail-trail.jpg
END:VEVENT
END:VCALENDAR