BEGIN:VCALENDAR
VERSION:2.0
PRODID:-//Sustainable Medfield - ECPv6.15.18//NONSGML v1.0//EN
CALSCALE:GREGORIAN
METHOD:PUBLISH
X-WR-CALNAME:Sustainable Medfield
X-ORIGINAL-URL:https://actionsevents.sustainablemedfield.org
X-WR-CALDESC:Events for Sustainable Medfield
REFRESH-INTERVAL;VALUE=DURATION:PT1H
X-Robots-Tag:noindex
X-PUBLISHED-TTL:PT1H
BEGIN:VTIMEZONE
TZID:America/New_York
BEGIN:DAYLIGHT
TZOFFSETFROM:-0500
TZOFFSETTO:-0400
TZNAME:EDT
DTSTART:20250309T070000
END:DAYLIGHT
BEGIN:STANDARD
TZOFFSETFROM:-0400
TZOFFSETTO:-0500
TZNAME:EST
DTSTART:20251102T060000
END:STANDARD
BEGIN:DAYLIGHT
TZOFFSETFROM:-0500
TZOFFSETTO:-0400
TZNAME:EDT
DTSTART:20260308T070000
END:DAYLIGHT
BEGIN:STANDARD
TZOFFSETFROM:-0400
TZOFFSETTO:-0500
TZNAME:EST
DTSTART:20261101T060000
END:STANDARD
BEGIN:DAYLIGHT
TZOFFSETFROM:-0500
TZOFFSETTO:-0400
TZNAME:EDT
DTSTART:20270314T070000
END:DAYLIGHT
BEGIN:STANDARD
TZOFFSETFROM:-0400
TZOFFSETTO:-0500
TZNAME:EST
DTSTART:20271107T060000
END:STANDARD
END:VTIMEZONE
BEGIN:VEVENT
DTSTART;TZID=America/New_York:20260507T180000
DTEND;TZID=America/New_York:20260507T200000
DTSTAMP:20260424T205727
CREATED:20260423T040433Z
LAST-MODIFIED:20260423T043423Z
UID:6309-1778176800-1778184000@actionsevents.sustainablemedfield.org
SUMMARY:No Waste Sewing Workshop for Adults
DESCRIPTION:Learn to make a virtually waste-free “Bog” Shirt from a single square of fabric. This will give you the skills to make more waste-free patterns\, with fabrics of your choice\, on your own!\nAll supplies provided.\nNo worries if you’ve never used a sewing machine before – we’ll teach you!\nSpace is limited. Please register
URL:https://actionsevents.sustainablemedfield.org/event/no-waste-sewing-workshop-for-adults/
LOCATION:Medfield Public Library\, Medfield
ATTACH;FMTTYPE=image/jpeg:https://actionsevents.sustainablemedfield.org/wp-content/uploads/sites/22/2026/04/Screenshot-2026-04-23-at-12.33.24-AM.jpg
END:VEVENT
END:VCALENDAR