BEGIN:VCALENDAR
VERSION:2.0
PRODID:-//Sustainable Medfield - ECPv6.15.18//NONSGML v1.0//EN
CALSCALE:GREGORIAN
METHOD:PUBLISH
X-WR-CALNAME:Sustainable Medfield
X-ORIGINAL-URL:https://actionsevents.sustainablemedfield.org
X-WR-CALDESC:Events for Sustainable Medfield
REFRESH-INTERVAL;VALUE=DURATION:PT1H
X-Robots-Tag:noindex
X-PUBLISHED-TTL:PT1H
BEGIN:VTIMEZONE
TZID:America/New_York
BEGIN:DAYLIGHT
TZOFFSETFROM:-0500
TZOFFSETTO:-0400
TZNAME:EDT
DTSTART:20250309T070000
END:DAYLIGHT
BEGIN:STANDARD
TZOFFSETFROM:-0400
TZOFFSETTO:-0500
TZNAME:EST
DTSTART:20251102T060000
END:STANDARD
BEGIN:DAYLIGHT
TZOFFSETFROM:-0500
TZOFFSETTO:-0400
TZNAME:EDT
DTSTART:20260308T070000
END:DAYLIGHT
BEGIN:STANDARD
TZOFFSETFROM:-0400
TZOFFSETTO:-0500
TZNAME:EST
DTSTART:20261101T060000
END:STANDARD
BEGIN:DAYLIGHT
TZOFFSETFROM:-0500
TZOFFSETTO:-0400
TZNAME:EDT
DTSTART:20270314T070000
END:DAYLIGHT
BEGIN:STANDARD
TZOFFSETFROM:-0400
TZOFFSETTO:-0500
TZNAME:EST
DTSTART:20271107T060000
END:STANDARD
END:VTIMEZONE
BEGIN:VEVENT
DTSTART;TZID=America/New_York:20260508T153000
DTEND;TZID=America/New_York:20260508T173000
DTSTAMP:20260424T205728
CREATED:20260419T205949Z
LAST-MODIFIED:20260423T043109Z
UID:5942-1778254200-1778261400@actionsevents.sustainablemedfield.org
SUMMARY:No Spray Biologic Mosquito Control – Learn how it works! 
DESCRIPTION:With warmer weather starting sooner and more precipitation predicted\, we all worry about mosquitoes and the diseases they can carry.  Frequently\, monthly yard sprays are ineffective or use\, even in their ‘natural’ mixes’\, pesticides that are potential carcinogens and that persist for weeks on your lawn\, flowers and bushes\, harming people\, pets and wildlife. Hilli will demonstrate a simple\, cheap and effective way to control mosquitoes naturally by breaking their lifecycle using ‘breeding traps’ and pond dunks.  This method can be scaled across your property and whole neighborhoods to achieve consistent outcomes. \nCome get your starter kit. \n  \n 
URL:https://actionsevents.sustainablemedfield.org/event/no-spray-biologic-mosquito-control-learn-how-it-works/
LOCATION:24 Marlyn Rd.\, Medfield
ATTACH;FMTTYPE=image/png:https://actionsevents.sustainablemedfield.org/wp-content/uploads/sites/22/2026/04/mosquito-surfboard.png
END:VEVENT
END:VCALENDAR