BEGIN:VCALENDAR
VERSION:2.0
PRODID:-//Sustainable Medfield - ECPv6.15.18//NONSGML v1.0//EN
CALSCALE:GREGORIAN
METHOD:PUBLISH
X-WR-CALNAME:Sustainable Medfield
X-ORIGINAL-URL:https://actionsevents.sustainablemedfield.org
X-WR-CALDESC:Events for Sustainable Medfield
REFRESH-INTERVAL;VALUE=DURATION:PT1H
X-Robots-Tag:noindex
X-PUBLISHED-TTL:PT1H
BEGIN:VTIMEZONE
TZID:America/New_York
BEGIN:DAYLIGHT
TZOFFSETFROM:-0500
TZOFFSETTO:-0400
TZNAME:EDT
DTSTART:20250309T070000
END:DAYLIGHT
BEGIN:STANDARD
TZOFFSETFROM:-0400
TZOFFSETTO:-0500
TZNAME:EST
DTSTART:20251102T060000
END:STANDARD
BEGIN:DAYLIGHT
TZOFFSETFROM:-0500
TZOFFSETTO:-0400
TZNAME:EDT
DTSTART:20260308T070000
END:DAYLIGHT
BEGIN:STANDARD
TZOFFSETFROM:-0400
TZOFFSETTO:-0500
TZNAME:EST
DTSTART:20261101T060000
END:STANDARD
BEGIN:DAYLIGHT
TZOFFSETFROM:-0500
TZOFFSETTO:-0400
TZNAME:EDT
DTSTART:20270314T070000
END:DAYLIGHT
BEGIN:STANDARD
TZOFFSETFROM:-0400
TZOFFSETTO:-0500
TZNAME:EST
DTSTART:20271107T060000
END:STANDARD
END:VTIMEZONE
BEGIN:VEVENT
DTSTART;TZID=America/New_York:20260503T130000
DTEND;TZID=America/New_York:20260503T150000
DTSTAMP:20260424T191358
CREATED:20260422T214446Z
LAST-MODIFIED:20260422T215722Z
UID:6237-1777813200-1777820400@actionsevents.sustainablemedfield.org
SUMMARY:Eversource Efficiency Experience
DESCRIPTION:Come explore the Eversource Efficiency Experience.   \nIt is an engaging mobile exhibit featuring guided\, hands-on learning with energy-efficient technologies that will teach visitors about their benefits and savings potential. Visitors can learn about: • Insulation • Smart Thermostats • Electrical Panels • Heat Pumps • Heat Pump Water Heaters • Solar Panels • Battery Storage • Level 2 Electric Vehicle Chargers • Induction Cooktops • Smart Meters \n  \nCheck it out at the EV Car Show!
URL:https://actionsevents.sustainablemedfield.org/event/eversource-efficiency-experience/
LOCATION:The Center at Medfield\, 1 Ice House Road\, Medfield\, Massachusetts\, US
ATTACH;FMTTYPE=image/jpeg:https://actionsevents.sustainablemedfield.org/wp-content/uploads/sites/22/2026/04/Screenshot-2026-04-22-at-5.55.42-PM.jpg
END:VEVENT
END:VCALENDAR