BEGIN:VCALENDAR
VERSION:2.0
PRODID:-//Sustainable Medfield - ECPv6.15.18//NONSGML v1.0//EN
CALSCALE:GREGORIAN
METHOD:PUBLISH
X-WR-CALNAME:Sustainable Medfield
X-ORIGINAL-URL:https://actionsevents.sustainablemedfield.org
X-WR-CALDESC:Events for Sustainable Medfield
REFRESH-INTERVAL;VALUE=DURATION:PT1H
X-Robots-Tag:noindex
X-PUBLISHED-TTL:PT1H
BEGIN:VTIMEZONE
TZID:America/New_York
BEGIN:DAYLIGHT
TZOFFSETFROM:-0500
TZOFFSETTO:-0400
TZNAME:EDT
DTSTART:20250309T070000
END:DAYLIGHT
BEGIN:STANDARD
TZOFFSETFROM:-0400
TZOFFSETTO:-0500
TZNAME:EST
DTSTART:20251102T060000
END:STANDARD
BEGIN:DAYLIGHT
TZOFFSETFROM:-0500
TZOFFSETTO:-0400
TZNAME:EDT
DTSTART:20260308T070000
END:DAYLIGHT
BEGIN:STANDARD
TZOFFSETFROM:-0400
TZOFFSETTO:-0500
TZNAME:EST
DTSTART:20261101T060000
END:STANDARD
BEGIN:DAYLIGHT
TZOFFSETFROM:-0500
TZOFFSETTO:-0400
TZNAME:EDT
DTSTART:20270314T070000
END:DAYLIGHT
BEGIN:STANDARD
TZOFFSETFROM:-0400
TZOFFSETTO:-0500
TZNAME:EST
DTSTART:20271107T060000
END:STANDARD
END:VTIMEZONE
BEGIN:VEVENT
DTSTART;TZID=America/New_York:20260507T180000
DTEND;TZID=America/New_York:20260507T201500
DTSTAMP:20260424T205659
CREATED:20260422T224738Z
LAST-MODIFIED:20260422T225228Z
UID:6244-1778176800-1778184900@actionsevents.sustainablemedfield.org
SUMMARY:Evening Beaver Pond Hike
DESCRIPTION:The hike will start at 6:15 pm sharp so arrive earlier to park and gather.\nMeet at Rocky Woods entrance. \nMeet Blanche and join fellow hikers for a special 3.3 mile hike through Rocky Woods and Hawthorne Village Conservation area. Will last approximately 2 hours (returning before last light at 8:18 PM). Will include an introduction to Hawthorne Village Conservation area adjacent to Rocky Woods and evening beaver observation at the pond around sunset (7:49 PM) \n  \n**What to bring:** \n– Flashlight (recommended for return journey) \n– Bug/tick spray (strongly encouraged for spring conditions) \n– Sturdy shoes \n– Parking fee: Free for Trustees members\, $6 for non-members \n**Additional information:** \n– Well-behaved dogs on leash are welcome \n– Weather policy: Hike proceeds in light to moderate rain  \n(shortened route to beaver pond) \n– Cancellation only in case of torrential rain \n– TEXT: 617-335-6023 for questions
URL:https://actionsevents.sustainablemedfield.org/event/evening-beaver-pond-hike/
LOCATION:Rocky Woods\, 38 Hartford Street\, Medfield\, MA\, 02052\, United States
ATTACH;FMTTYPE=image/jpeg:https://actionsevents.sustainablemedfield.org/wp-content/uploads/sites/22/2026/04/Screenshot-2026-04-22-at-6.52.05-PM.jpg
END:VEVENT
END:VCALENDAR