BEGIN:VCALENDAR
VERSION:2.0
PRODID:-//Sustainable Medfield - ECPv6.15.18//NONSGML v1.0//EN
CALSCALE:GREGORIAN
METHOD:PUBLISH
X-WR-CALNAME:Sustainable Medfield
X-ORIGINAL-URL:https://actionsevents.sustainablemedfield.org
X-WR-CALDESC:Events for Sustainable Medfield
REFRESH-INTERVAL;VALUE=DURATION:PT1H
X-Robots-Tag:noindex
X-PUBLISHED-TTL:PT1H
BEGIN:VTIMEZONE
TZID:America/New_York
BEGIN:DAYLIGHT
TZOFFSETFROM:-0500
TZOFFSETTO:-0400
TZNAME:EDT
DTSTART:20250309T070000
END:DAYLIGHT
BEGIN:STANDARD
TZOFFSETFROM:-0400
TZOFFSETTO:-0500
TZNAME:EST
DTSTART:20251102T060000
END:STANDARD
BEGIN:DAYLIGHT
TZOFFSETFROM:-0500
TZOFFSETTO:-0400
TZNAME:EDT
DTSTART:20260308T070000
END:DAYLIGHT
BEGIN:STANDARD
TZOFFSETFROM:-0400
TZOFFSETTO:-0500
TZNAME:EST
DTSTART:20261101T060000
END:STANDARD
BEGIN:DAYLIGHT
TZOFFSETFROM:-0500
TZOFFSETTO:-0400
TZNAME:EDT
DTSTART:20270314T070000
END:DAYLIGHT
BEGIN:STANDARD
TZOFFSETFROM:-0400
TZOFFSETTO:-0500
TZNAME:EST
DTSTART:20271107T060000
END:STANDARD
END:VTIMEZONE
BEGIN:VEVENT
DTSTART;TZID=America/New_York:20260502T090000
DTEND;TZID=America/New_York:20260502T140000
DTSTAMP:20260424T161639
CREATED:20260420T214107Z
LAST-MODIFIED:20260420T214107Z
UID:6074-1777712400-1777730400@actionsevents.sustainablemedfield.org
SUMMARY:Electronics Recycling
DESCRIPTION:Recycle your unwanted electronics. Most electronics are acceptable some have a small fee. \nAcceptable items and rates: CRT televisions above 24” \nand Projection/Console TVs – $40.00 \nFlat screen TVs and CRT televisions below 24” – $30.00 \nCRT Monitors – $15 \nPrinters/Copiers – $5 \nToner used or unused – $5 \nVENDOR TO ACCEPT CASH OR CHECK ONLY
URL:https://actionsevents.sustainablemedfield.org/event/electronics-recycling/
LOCATION:Medfield Transfer Station\, 135 North Meadows Road\, Medfield\, 02052\, United States
ATTACH;FMTTYPE=image/jpeg:https://actionsevents.sustainablemedfield.org/wp-content/uploads/sites/22/2026/04/Screenshot-2026-04-20-at-5.39.28-PM.jpg
END:VEVENT
END:VCALENDAR